BEGIN:VCALENDAR
VERSION:2.0
PRODID:-//SMI ASIA Australia - ECPv5.9.0//NONSGML v1.0//EN
CALSCALE:GREGORIAN
METHOD:PUBLISH
X-WR-CALNAME:SMI ASIA Australia
X-ORIGINAL-URL:https://em.smiasia.org
X-WR-CALDESC:Events for SMI ASIA Australia
BEGIN:VTIMEZONE
TZID:UTC
BEGIN:STANDARD
TZOFFSETFROM:+0000
TZOFFSETTO:+0000
TZNAME:UTC
DTSTART:20200101T000000
END:STANDARD
END:VTIMEZONE
BEGIN:VEVENT
DTSTART;VALUE=DATE:20210219
DTEND;VALUE=DATE:20210220
DTSTAMP:20260421T103749
CREATED:20210123T021434Z
LAST-MODIFIED:20210123T021434Z
UID:2896-1613692800-1613779199@em.smiasia.org
SUMMARY:Storekeeper Executive in Action
DESCRIPTION:Storekeeper Executive in Action
URL:https://em.smiasia.org/trainingevent/storekeeper-executive-in-action-3/
LOCATION:Furama Riverfront Hotel
CATEGORIES:Singapore
ORGANIZER;CN="GLOSSY":MAILTO:glossy.ann@smiasia.org
END:VEVENT
BEGIN:VEVENT
DTSTART;VALUE=DATE:20210217
DTEND;VALUE=DATE:20210219
DTSTAMP:20260421T103749
CREATED:20210123T024600Z
LAST-MODIFIED:20210123T024600Z
UID:2907-1613520000-1613692799@em.smiasia.org
SUMMARY:Accounts Support Positive & Work Attitude
DESCRIPTION:
URL:https://em.smiasia.org/trainingevent/accounts-support-positive-work-attitude/
LOCATION:Furama Riverfront Hotel
CATEGORIES:Singapore
ORGANIZER;CN="GLOSSY":MAILTO:glossy.ann@smiasia.org
END:VEVENT
BEGIN:VEVENT
DTSTART;VALUE=DATE:20210217
DTEND;VALUE=DATE:20210219
DTSTAMP:20260421T103749
CREATED:20210123T023508Z
LAST-MODIFIED:20210123T024346Z
UID:2915-1613520000-1613692799@em.smiasia.org
SUMMARY:Customer Development & Relationship Strategies
DESCRIPTION:customer development and relationship strategies
URL:https://em.smiasia.org/trainingevent/customer-development-relationship-strategies-2/
LOCATION:Furama Riverfront Hotel
CATEGORIES:Singapore
ORGANIZER;CN="GLOSSY":MAILTO:glossy.ann@smiasia.org
END:VEVENT
BEGIN:VEVENT
DTSTART;VALUE=DATE:20210217
DTEND;VALUE=DATE:20210219
DTSTAMP:20260421T103749
CREATED:20210123T021228Z
LAST-MODIFIED:20210123T021228Z
UID:2894-1613520000-1613692799@em.smiasia.org
SUMMARY:Value Added Purchasing Support for Purchasing Success
DESCRIPTION:
URL:https://em.smiasia.org/trainingevent/value-added-purchasing-support-for-purchasing-success-3/
LOCATION:Furama Riverfront Hotel
CATEGORIES:Singapore
ORGANIZER;CN="GLOSSY":MAILTO:glossy.ann@smiasia.org
END:VEVENT
BEGIN:VEVENT
DTSTART;VALUE=DATE:20210208
DTEND;VALUE=DATE:20210210
DTSTAMP:20260421T103749
CREATED:20210123T020448Z
LAST-MODIFIED:20210207T014257Z
UID:2890-1612742400-1612915199@em.smiasia.org
SUMMARY:Advanced Purchasing Strategies & Planning Skills
DESCRIPTION:Advanced Purchasing Strategies & Planning
URL:https://em.smiasia.org/trainingevent/advanced-purchasing-strategies-planning-skills/
LOCATION:Furama Riverfront Hotel
CATEGORIES:Singapore
ORGANIZER;CN="GLOSSY":MAILTO:glossy.ann@smiasia.org
END:VEVENT
BEGIN:VEVENT
DTSTART;VALUE=DATE:20210208
DTEND;VALUE=DATE:20210210
DTSTAMP:20260421T103749
CREATED:20210123T023402Z
LAST-MODIFIED:20210123T023402Z
UID:2912-1612742400-1612915199@em.smiasia.org
SUMMARY:Sales Negotiation for Win - Win
DESCRIPTION:win-win sales negotiation
URL:https://em.smiasia.org/trainingevent/sales-negotiation-for-win-win-2/
LOCATION:Furama Riverfront Hotel
CATEGORIES:Singapore
ORGANIZER;CN="GLOSSY":MAILTO:glossy.ann@smiasia.org
END:VEVENT
BEGIN:VEVENT
DTSTART;VALUE=DATE:20210129
DTEND;VALUE=DATE:20210130
DTSTAMP:20260421T103749
CREATED:20201208T084113Z
LAST-MODIFIED:20201229T071932Z
UID:2215-1611878400-1611964799@em.smiasia.org
SUMMARY:Incoterms 2020 – Import/Export Negotiations
DESCRIPTION:
URL:https://em.smiasia.org/trainingevent/incoterms-2020-import-export-negotiations/
LOCATION:Furama Riverfront Hotel
CATEGORIES:Singapore
ORGANIZER;CN="GLOSSY":MAILTO:glossy.ann@smiasia.org
END:VEVENT
BEGIN:VEVENT
DTSTART;VALUE=DATE:20210129
DTEND;VALUE=DATE:20210130
DTSTAMP:20260421T103749
CREATED:20201208T083501Z
LAST-MODIFIED:20201229T072144Z
UID:2211-1611878400-1611964799@em.smiasia.org
SUMMARY:Result - Focused Buyer / Purchasing Assistant
DESCRIPTION:RESULT-FOCUSED PURCHASING ASSISTANT _cs6
URL:https://em.smiasia.org/trainingevent/result-focused-buyer-purchasing-assistant/
LOCATION:Furama Riverfront Hotel
CATEGORIES:Singapore
ORGANIZER;CN="GLOSSY":MAILTO:glossy.ann@smiasia.org
END:VEVENT
BEGIN:VEVENT
DTSTART;VALUE=DATE:20210127
DTEND;VALUE=DATE:20210129
DTSTAMP:20260421T103749
CREATED:20201229T071208Z
LAST-MODIFIED:20201229T071344Z
UID:2383-1611705600-1611878399@em.smiasia.org
SUMMARY:Supply Chain Management
DESCRIPTION:
URL:https://em.smiasia.org/trainingevent/supply-chain-management/
LOCATION:Furama Riverfront Hotel
CATEGORIES:Singapore
ORGANIZER;CN="GLOSSY":MAILTO:glossy.ann@smiasia.org
END:VEVENT
BEGIN:VEVENT
DTSTART;VALUE=DATE:20210125
DTEND;VALUE=DATE:20210127
DTSTAMP:20260421T103749
CREATED:20201229T070702Z
LAST-MODIFIED:20201229T070702Z
UID:2380-1611532800-1611705599@em.smiasia.org
SUMMARY:Inventory Reduction Strategies
DESCRIPTION:
URL:https://em.smiasia.org/trainingevent/inventory-reduction-strategies/
LOCATION:Furama Riverfront Hotel
CATEGORIES:Singapore
ORGANIZER;CN="GLOSSY":MAILTO:glossy.ann@smiasia.org
END:VEVENT
BEGIN:VEVENT
DTSTART;TZID=UTC:20201211T080000
DTEND;TZID=UTC:20201211T170000
DTSTAMP:20260421T103749
CREATED:20201205T023642Z
LAST-MODIFIED:20201205T024227Z
UID:2198-1607673600-1607706000@em.smiasia.org
SUMMARY:Total Productive Maintenance
DESCRIPTION:https://smiasia.org/total-productive-maintenance/
URL:https://em.smiasia.org/trainingevent/total-productive-maintenance/
LOCATION:Furama Riverfront Hotel
CATEGORIES:Singapore
END:VEVENT
BEGIN:VEVENT
DTSTART;VALUE=DATE:20200902
DTEND;VALUE=DATE:20200905
DTSTAMP:20260421T103749
CREATED:20200814T232959Z
LAST-MODIFIED:20200814T235028Z
UID:90-1599062400-1599235199@em.smiasia.org
SUMMARY:TOTAL PRODUCTIVE MAINTENANCE: Maximise Efficiency of Production and Engineering Facilities
DESCRIPTION:Workshop Objective \n1. The Total Productive Maintenance Ideals Zero Defects\, Zero Breakdown\, Zero Accidents and Zero Waste \n2. The Fundamentals of Total Productive Maintenance 5 S Technique \n3. Eight Pillars to Ensure Total Productive Maintenance Success \n4. Develop Optimum Workshop Conditions Human-Machine System \n5. Identify the SIX Major Losses affecting Company Production \n6. Calculate the Losses on the Manufacturing Floor \n7. Develop and Implement a Preventive Maintenance Schedule Ensure its SUCCESS! \n8. Plan out the Maintenance Activities and Schedule Maximise Machine Productivity \n\nTarget Participants \nAll Maintenance Supervisors\, Executives\, Engineers and People who interested to Increase Machine/Equipment Productivity \nOutline  \nPart A TOTAL PRODUCTIVE MAINTENANCE PROFILE \n1.       What is Total Productive Maintenance and its Contribution to Productivity \n2.       Integrate Total Productive Maintenance to Continuous Improvement and Quality Improvement Programmes \n3.       The 4 Total Productive Maintenance Ideals – Zero Defects\, Zero Breakdown\, Zero Accidents and Zero Waste \nPart B  TOTAL PRODUCTIVE MAINTENANCE DEVELOPMENT \n1. TOTAL PRODUCTIVE MAINTENANCE DEVELOPMENT \nA.      Development of TPM Support the Production of the Product \nB.      The American Model and Japanese Model – How TPM evolved! \nC.      Understand the Use of Total Productive Maintenance in Singapore/Malaysian Context – What all companies should emulate \n2. 5’S –FUNDAMENTAL OF TOTAL PRODUCTIVE MAINTENANCE \nA.      Implement SEIRI Schedule\, Fixing\, Identifying\, Making and Attaching\, Taking Action on Red Tag Items \nB.      Implement SEITON Workplace Organisation with Colour Lines and Storage Organisation. \nC.      Implement SEISO Consolidate Daily Cleaning Procedures and Make Cleaning and Checking Habitual \nD.      Implement SEIKETSU Tools for Seiketsu and develop a 5S – Housekeeping Checklist. \nE.      Implement SHITSUKE Photo Display\, 5S Corners\, 5S Contests and 5S Competition. \n3.  ZERO BREAKDOWN \nA.      Why do Breakdowns Occur and Techniques Eradicate Causes of Breakdowns \nB.      5 Points Improvement Strategies to Avoid Breakdowns \n·       Cleaning\, Tightening Nuts and Bolts\, Complete Lubrication \n·       Proper Use of Equipment \n·       Reveal Hidden Defects\, Restore to Original Conditions \n·       Reconsider Equipment Design \n·       Improve Equipment Maintenance \nC.     Practical 4 Step Plan towards Zero Breakdown \n·       Reduce Excess Wear and Tear \n·       Improve Design Weak Points \n·       Regular Maintenance \n·       Forecast Maintenance \n4.  EIGHT PILLARS OF TOTAL PRODUCTIVE MAINTENANCE \nA.      Kobetsu Kaizen Improve Quality\, Delivery\, Cycle Time\, etc. \nB.      Autonomous Maintenance Small Group Activity to Resolve Daily Problems \nC.      Planned Maintenance Structured and Organised Maintenance System \nD.      Skills Training for Operators and Maintenance Make Minor Repairs \nE.      Early Equipment Product and Process Management System Effective Feedback to Improve R&D and Minimise Rejects \nF.      Develop Administrative Systems Total Productive Maintenance in Office \nG.      Ensure Complete TPM with Safety/Hygiene and Environment System \n5. OPTIMUM WORKSHOP CONDITIONS  HUMAN-MACHINE SYSTEM \nA.      Improve Overall Quality of Workplace Conducive Environment\, Layout\, Material\, Lighting\, etc \nB.      Changing Equipment – Upgrading\, Cleaning\, Checking\, Abnormality\, Things to Improve\, etc. \n6. THE SIX BIG LOSSES \nA.      The SIX Big Losses on the Manufacturing Floor Losses to AVOID! \n            i.      Breakdown Losses Failure Function \n            ii.     Set-up and Adjustment Losses Change of Toolings \n            iii.    Idle and Minor Stoppage Losses Temporary Breakdown \n            iv.     Reduce Speed Losses Reduced Function Quality Defects and Rework Wrong Specifications \n            v.      Start-up/Yield Losses Long Stoppage/Restart Work \nB.      Eliminate/Minimise SIX BIG LOSSES to achieve Total Productive Maintenance Ideals \n7.  EQUIPMENT PRODUCTIVITY LOSS CALCULATION METHODS \nA.      Identify Productivity and Quality Improvement Targets Suitable Targets for your Company \nB.      Calculate Overall Equipment Efficiency How Productive is your Equipment \nC.      Practical Loss Calculation Methods and Improvement Targets \nD.      Practical Approach to Chronic Loss Improvement – Chronic and Sporadic Events \nE.      Implement Preventive Maintenance Analysis and The Seven Step Approach. \n8.  AUTONOMOUS MAINTENANCE \nA.      What is Autonomous Maintenance and How it Improve Production Downtime \nB.      The SEVEN Step Technique in Autonomous Maintenance \nC.      Implement Total Productive Maintenance The TWELVE Step approach \nD.      Operators Role in Preventive and Corrective Maintenance to ensure Smooth Production Flow \nE.      Basic Skills and Procedures in Maintenance – Cleaning\, Checking\, Oiling\, Tightening. \nF.      Identify Types of Motors/Pumps and their Structures \nG.      Identify Key Points in Motor/Pump Inspection and Cleaning \nH.      Implement Corrective Maintenance Techniques – Equipment Improvement to Minimise Problem Recurrence \nI.      Workshop to Implement Total Productive Maintenance in your Organisation – Maximise Productivity and Quality
URL:https://em.smiasia.org/trainingevent/course-1/
LOCATION:Furama Riverfront Hotel
CATEGORIES:Singapore
ORGANIZER;CN="GLOSSY":MAILTO:glossy.ann@smiasia.org
END:VEVENT
END:VCALENDAR