BEGIN:VCALENDAR
VERSION:2.0
PRODID:-//SMI ASIA Australia - ECPv5.9.0//NONSGML v1.0//EN
CALSCALE:GREGORIAN
METHOD:PUBLISH
X-WR-CALNAME:SMI ASIA Australia
X-ORIGINAL-URL:https://em.smiasia.org
X-WR-CALDESC:Events for SMI ASIA Australia
BEGIN:VTIMEZONE
TZID:UTC
BEGIN:STANDARD
TZOFFSETFROM:+0000
TZOFFSETTO:+0000
TZNAME:UTC
DTSTART:20210101T000000
END:STANDARD
END:VTIMEZONE
BEGIN:VEVENT
DTSTART;VALUE=DATE:20210208
DTEND;VALUE=DATE:20210210
DTSTAMP:20260421T234221
CREATED:20201229T091131Z
LAST-MODIFIED:20201229T091131Z
UID:2507-1612742400-1612915199@em.smiasia.org
SUMMARY:Value-Added Purchasing Support For Purchasing Success
DESCRIPTION:Value-Added Purchasing Support For Purchasing Success
URL:https://em.smiasia.org/trainingevent/value-added-purchasing-support-for-purchasing-success/
LOCATION:AC HOTEL BY MARRIOTT (VISTANA)\, PENANG\, Bukit Jambul\, Penang\, Malaysia
CATEGORIES:Penang
ORGANIZER;CN="Quezel":MAILTO:quezel@smiasia.org/enquiry@smiasia.org
END:VEVENT
END:VCALENDAR