BEGIN:VCALENDAR
VERSION:2.0
PRODID:-//SMI ASIA Australia - ECPv5.9.0//NONSGML v1.0//EN
CALSCALE:GREGORIAN
METHOD:PUBLISH
X-WR-CALNAME:SMI ASIA Australia
X-ORIGINAL-URL:https://em.smiasia.org
X-WR-CALDESC:Events for SMI ASIA Australia
BEGIN:VTIMEZONE
TZID:UTC
BEGIN:STANDARD
TZOFFSETFROM:+0000
TZOFFSETTO:+0000
TZNAME:UTC
DTSTART:20210101T000000
END:STANDARD
END:VTIMEZONE
BEGIN:VEVENT
DTSTART;VALUE=DATE:20210226
DTEND;VALUE=DATE:20210227
DTSTAMP:20260421T132409
CREATED:20201229T092146Z
LAST-MODIFIED:20201229T092146Z
UID:2530-1614297600-1614383999@em.smiasia.org
SUMMARY:Technical Report Writing
DESCRIPTION:Technical Report Writing
URL:https://em.smiasia.org/trainingevent/technical-report-writing/
LOCATION:AC HOTEL BY MARRIOTT (VISTANA)\, PENANG\, Bukit Jambul\, Penang\, Malaysia
CATEGORIES:Penang
ORGANIZER;CN="Quezel":MAILTO:quezel@smiasia.org/enquiry@smiasia.org
END:VEVENT
END:VCALENDAR