BEGIN:VCALENDAR
VERSION:2.0
PRODID:-//SMI ASIA Australia - ECPv5.9.0//NONSGML v1.0//EN
CALSCALE:GREGORIAN
METHOD:PUBLISH
X-WR-CALNAME:SMI ASIA Australia
X-ORIGINAL-URL:https://em.smiasia.org
X-WR-CALDESC:Events for SMI ASIA Australia
BEGIN:VTIMEZONE
TZID:UTC
BEGIN:STANDARD
TZOFFSETFROM:+0000
TZOFFSETTO:+0000
TZNAME:UTC
DTSTART:20210101T000000
END:STANDARD
END:VTIMEZONE
BEGIN:VEVENT
DTSTART;VALUE=DATE:20210407
DTEND;VALUE=DATE:20210409
DTSTAMP:20260426T005708
CREATED:20210226T014840Z
LAST-MODIFIED:20210226T014840Z
UID:3801-1617753600-1617926399@em.smiasia.org
SUMMARY:SUPERVISORY LEADERSHIP\, SUPERVISORY MOTIVATION AND SUPERVISORY CREATIVITY
DESCRIPTION:
URL:https://em.smiasia.org/trainingevent/supervisory-leadership-supervisory-motivation-and-supervisory-creativity-2/
LOCATION:RENAISSANCE JOHOR BAHRU
CATEGORIES:Johor Bahru
END:VEVENT
END:VCALENDAR