BEGIN:VCALENDAR
VERSION:2.0
PRODID:-//SMI ASIA Australia - ECPv5.9.0//NONSGML v1.0//EN
CALSCALE:GREGORIAN
METHOD:PUBLISH
X-WR-CALNAME:SMI ASIA Australia
X-ORIGINAL-URL:https://em.smiasia.org
X-WR-CALDESC:Events for SMI ASIA Australia
BEGIN:VTIMEZONE
TZID:UTC
BEGIN:STANDARD
TZOFFSETFROM:+0000
TZOFFSETTO:+0000
TZNAME:UTC
DTSTART:20210101T000000
END:STANDARD
END:VTIMEZONE
BEGIN:VEVENT
DTSTART;VALUE=DATE:20210201
DTEND;VALUE=DATE:20210202
DTSTAMP:20260422T051426
CREATED:20210130T020424Z
LAST-MODIFIED:20210130T020424Z
UID:3357-1612137600-1612223999@em.smiasia.org
SUMMARY:SST Compliance And Implementation
DESCRIPTION:SST compliance and implementation
URL:https://em.smiasia.org/trainingevent/sst-compliance-and-implementation/
LOCATION:RENAISSANCE JOHOR BAHRU
CATEGORIES:Johor Bahru
END:VEVENT
END:VCALENDAR