BEGIN:VCALENDAR
VERSION:2.0
PRODID:-//SMI ASIA Australia - ECPv5.9.0//NONSGML v1.0//EN
CALSCALE:GREGORIAN
METHOD:PUBLISH
X-WR-CALNAME:SMI ASIA Australia
X-ORIGINAL-URL:https://em.smiasia.org
X-WR-CALDESC:Events for SMI ASIA Australia
BEGIN:VTIMEZONE
TZID:UTC
BEGIN:STANDARD
TZOFFSETFROM:+0000
TZOFFSETTO:+0000
TZNAME:UTC
DTSTART:20210101T000000
END:STANDARD
END:VTIMEZONE
BEGIN:VEVENT
DTSTART;VALUE=DATE:20210129
DTEND;VALUE=DATE:20210130
DTSTAMP:20260421T192706
CREATED:20201229T082316Z
LAST-MODIFIED:20201229T082316Z
UID:2475-1611878400-1611878400@em.smiasia.org
SUMMARY:Secretary Leadership & Management Support
DESCRIPTION:Secretary Leadership & Management Support
URL:https://em.smiasia.org/trainingevent/secretary-leadership-management-support/
LOCATION:DORSETT GRAND SUBANG
CATEGORIES:Kuala Lumpur
END:VEVENT
END:VCALENDAR