BEGIN:VCALENDAR
VERSION:2.0
PRODID:-//SMI ASIA Australia - ECPv5.9.0//NONSGML v1.0//EN
CALSCALE:GREGORIAN
METHOD:PUBLISH
X-WR-CALNAME:SMI ASIA Australia
X-ORIGINAL-URL:https://em.smiasia.org
X-WR-CALDESC:Events for SMI ASIA Australia
BEGIN:VTIMEZONE
TZID:UTC
BEGIN:STANDARD
TZOFFSETFROM:+0000
TZOFFSETTO:+0000
TZNAME:UTC
DTSTART:20210101T000000
END:STANDARD
END:VTIMEZONE
BEGIN:VEVENT
DTSTART;VALUE=DATE:20210420
DTEND;VALUE=DATE:20210422
DTSTAMP:20260424T052536
CREATED:20210123T070245Z
LAST-MODIFIED:20210123T070245Z
UID:2997-1618876800-1619049599@em.smiasia.org
SUMMARY:Root Cause Analysis
DESCRIPTION:Root Cause Analysis
URL:https://em.smiasia.org/trainingevent/root-cause-analysis-3/
LOCATION:Furama Riverfront Hotel
CATEGORIES:Singapore
ORGANIZER;CN="GLOSSY":MAILTO:glossy.ann@smiasia.org
END:VEVENT
END:VCALENDAR