BEGIN:VCALENDAR
VERSION:2.0
PRODID:-//SMI ASIA Australia - ECPv5.9.0//NONSGML v1.0//EN
CALSCALE:GREGORIAN
METHOD:PUBLISH
X-WR-CALNAME:SMI ASIA Australia
X-ORIGINAL-URL:https://em.smiasia.org
X-WR-CALDESC:Events for SMI ASIA Australia
BEGIN:VTIMEZONE
TZID:UTC
BEGIN:STANDARD
TZOFFSETFROM:+0000
TZOFFSETTO:+0000
TZNAME:UTC
DTSTART:20210101T000000
END:STANDARD
END:VTIMEZONE
BEGIN:VEVENT
DTSTART;VALUE=DATE:20210329
DTEND;VALUE=DATE:20210331
DTSTAMP:20260421T163707
CREATED:20210120T005010Z
LAST-MODIFIED:20210120T005010Z
UID:2772-1616976000-1617148799@em.smiasia.org
SUMMARY:Practical Failure Mode And Effect Analysis
DESCRIPTION:
URL:https://em.smiasia.org/trainingevent/practical-failure-mode-and-effect-analysis/
LOCATION:AC HOTEL BY MARRIOTT (VISTANA)\, PENANG\, Bukit Jambul\, Penang\, Malaysia
CATEGORIES:Penang
ORGANIZER;CN="Quezel":MAILTO:quezel@smiasia.org/enquiry@smiasia.org
END:VEVENT
END:VCALENDAR