BEGIN:VCALENDAR
VERSION:2.0
PRODID:-//SMI ASIA Australia - ECPv5.9.0//NONSGML v1.0//EN
CALSCALE:GREGORIAN
METHOD:PUBLISH
X-WR-CALNAME:SMI ASIA Australia
X-ORIGINAL-URL:https://em.smiasia.org
X-WR-CALDESC:Events for SMI ASIA Australia
BEGIN:VTIMEZONE
TZID:UTC
BEGIN:STANDARD
TZOFFSETFROM:+0000
TZOFFSETTO:+0000
TZNAME:UTC
DTSTART:20210101T000000
END:STANDARD
END:VTIMEZONE
BEGIN:VEVENT
DTSTART;VALUE=DATE:20210222
DTEND;VALUE=DATE:20210224
DTSTAMP:20260421T155402
CREATED:20210130T021354Z
LAST-MODIFIED:20210130T021354Z
UID:3374-1613952000-1614124799@em.smiasia.org
SUMMARY:PDCA In Production Planning Strategies (Bahasa)
DESCRIPTION:PDCA in Production Problem Solving (Bahasa)
URL:https://em.smiasia.org/trainingevent/pdca-in-production-planning-strategies-bahasa/
LOCATION:RENAISSANCE JOHOR BAHRU
CATEGORIES:Johor Bahru
END:VEVENT
END:VCALENDAR