BEGIN:VCALENDAR
VERSION:2.0
PRODID:-//SMI ASIA Australia - ECPv5.9.0//NONSGML v1.0//EN
CALSCALE:GREGORIAN
METHOD:PUBLISH
X-WR-CALNAME:SMI ASIA Australia
X-ORIGINAL-URL:https://em.smiasia.org
X-WR-CALDESC:Events for SMI ASIA Australia
BEGIN:VTIMEZONE
TZID:UTC
BEGIN:STANDARD
TZOFFSETFROM:+0000
TZOFFSETTO:+0000
TZNAME:UTC
DTSTART:20210101T000000
END:STANDARD
END:VTIMEZONE
BEGIN:VEVENT
DTSTART;VALUE=DATE:20210201
DTEND;VALUE=DATE:20210203
DTSTAMP:20260422T034244
CREATED:20210130T014936Z
LAST-MODIFIED:20210130T015043Z
UID:3340-1612137600-1612310399@em.smiasia.org
SUMMARY:Meningkat Prestasi Operator Store Gudang
DESCRIPTION:Meningkat Prestasi Operator Store Gudang
URL:https://em.smiasia.org/trainingevent/meningkat-prestasi-operator-store-gudang-2/
LOCATION:RENAISSANCE JOHOR BAHRU
CATEGORIES:Johor Bahru
END:VEVENT
END:VCALENDAR