BEGIN:VCALENDAR
VERSION:2.0
PRODID:-//SMI ASIA Australia - ECPv5.9.0//NONSGML v1.0//EN
CALSCALE:GREGORIAN
METHOD:PUBLISH
X-WR-CALNAME:SMI ASIA Australia
X-ORIGINAL-URL:https://em.smiasia.org
X-WR-CALDESC:Events for SMI ASIA Australia
BEGIN:VTIMEZONE
TZID:UTC
BEGIN:STANDARD
TZOFFSETFROM:+0000
TZOFFSETTO:+0000
TZNAME:UTC
DTSTART:20210101T000000
END:STANDARD
END:VTIMEZONE
BEGIN:VEVENT
DTSTART;VALUE=DATE:20210224
DTEND;VALUE=DATE:20210226
DTSTAMP:20260421T120621
CREATED:20210115T072310Z
LAST-MODIFIED:20210115T072310Z
UID:2653-1614124800-1614297599@em.smiasia.org
SUMMARY:MANUFACTURING COSTING for NON-COSTING MANAGERS
DESCRIPTION:
URL:https://em.smiasia.org/trainingevent/manufacturing-costing-for-non-costing-managers/
LOCATION:DORSETT GRAND SUBANG
CATEGORIES:Kuala Lumpur
END:VEVENT
END:VCALENDAR