BEGIN:VCALENDAR
VERSION:2.0
PRODID:-//SMI ASIA Australia - ECPv5.9.0//NONSGML v1.0//EN
CALSCALE:GREGORIAN
METHOD:PUBLISH
X-WR-CALNAME:SMI ASIA Australia
X-ORIGINAL-URL:https://em.smiasia.org
X-WR-CALDESC:Events for SMI ASIA Australia
BEGIN:VTIMEZONE
TZID:UTC
BEGIN:STANDARD
TZOFFSETFROM:+0000
TZOFFSETTO:+0000
TZNAME:UTC
DTSTART:20210101T000000
END:STANDARD
END:VTIMEZONE
BEGIN:VEVENT
DTSTART;VALUE=DATE:20210217
DTEND;VALUE=DATE:20210218
DTSTAMP:20260421T152242
CREATED:20201229T082440Z
LAST-MODIFIED:20201229T082440Z
UID:2484-1613520000-1613606399@em.smiasia.org
SUMMARY:LMW 2020 Strategies for Warehouse/Manufacturers
DESCRIPTION:LMW 2020 Strategies for Warehouse/Manufacturers \n\nLMW 2020 Strategies for Warehouse/Manufacturers
URL:https://em.smiasia.org/trainingevent/lmw-2020-strategies-for-warehouse-manufacturers/
LOCATION:AC HOTEL BY MARRIOTT (VISTANA)\, PENANG\, Bukit Jambul\, Penang\, Malaysia
CATEGORIES:Penang
ORGANIZER;CN="Quezel":MAILTO:quezel@smiasia.org/enquiry@smiasia.org
END:VEVENT
END:VCALENDAR