BEGIN:VCALENDAR
VERSION:2.0
PRODID:-//SMI ASIA Australia - ECPv5.9.0//NONSGML v1.0//EN
CALSCALE:GREGORIAN
METHOD:PUBLISH
X-WR-CALNAME:SMI ASIA Australia
X-ORIGINAL-URL:https://em.smiasia.org
X-WR-CALDESC:Events for SMI ASIA Australia
BEGIN:VTIMEZONE
TZID:UTC
BEGIN:STANDARD
TZOFFSETFROM:+0000
TZOFFSETTO:+0000
TZNAME:UTC
DTSTART:20210101T000000
END:STANDARD
END:VTIMEZONE
BEGIN:VEVENT
DTSTART;VALUE=DATE:20210422
DTEND;VALUE=DATE:20210424
DTSTAMP:20260423T192225
CREATED:20210123T063126Z
LAST-MODIFIED:20210123T063126Z
UID:2991-1619049600-1619222399@em.smiasia.org
SUMMARY:Key Account Management Strategies
DESCRIPTION:key account management in action(module1)
URL:https://em.smiasia.org/trainingevent/key-account-management-strategies-3/
LOCATION:Furama Riverfront Hotel
CATEGORIES:Singapore
ORGANIZER;CN="GLOSSY":MAILTO:glossy.ann@smiasia.org
END:VEVENT
END:VCALENDAR