BEGIN:VCALENDAR
VERSION:2.0
PRODID:-//SMI ASIA Australia - ECPv5.9.0//NONSGML v1.0//EN
CALSCALE:GREGORIAN
METHOD:PUBLISH
X-WR-CALNAME:SMI ASIA Australia
X-ORIGINAL-URL:https://em.smiasia.org
X-WR-CALDESC:Events for SMI ASIA Australia
BEGIN:VTIMEZONE
TZID:UTC
BEGIN:STANDARD
TZOFFSETFROM:+0000
TZOFFSETTO:+0000
TZNAME:UTC
DTSTART:20210101T000000
END:STANDARD
END:VTIMEZONE
BEGIN:VEVENT
DTSTART;VALUE=DATE:20210217
DTEND;VALUE=DATE:20210219
DTSTAMP:20260421T162057
CREATED:20210115T071322Z
LAST-MODIFIED:20210115T071601Z
UID:2645-1613520000-1613692799@em.smiasia.org
SUMMARY:CUSTOMER DEVELOPMENT and RELATIONSHIP MANAGEMENT STRATEGIES
DESCRIPTION:customer development and relationship strategies
URL:https://em.smiasia.org/trainingevent/customer-development-and-relationship-management-strategies/
LOCATION:DORSETT GRAND SUBANG
CATEGORIES:Kuala Lumpur
END:VEVENT
END:VCALENDAR