BEGIN:VCALENDAR
VERSION:2.0
PRODID:-//SMI ASIA Australia - ECPv5.9.0//NONSGML v1.0//EN
CALSCALE:GREGORIAN
METHOD:PUBLISH
X-WR-CALNAME:SMI ASIA Australia
X-ORIGINAL-URL:https://em.smiasia.org
X-WR-CALDESC:Events for SMI ASIA Australia
BEGIN:VTIMEZONE
TZID:UTC
BEGIN:STANDARD
TZOFFSETFROM:+0000
TZOFFSETTO:+0000
TZNAME:UTC
DTSTART:20210101T000000
END:STANDARD
END:VTIMEZONE
BEGIN:VEVENT
DTSTART;VALUE=DATE:20210219
DTEND;VALUE=DATE:20210220
DTSTAMP:20260421T103603
CREATED:20210123T023250Z
LAST-MODIFIED:20210123T023250Z
UID:2909-1613692800-1613779199@em.smiasia.org
SUMMARY:Creative Sales Presentation Skills
DESCRIPTION:creative sales presentation
URL:https://em.smiasia.org/trainingevent/creative-sales-presentation-skills/
LOCATION:Furama Riverfront Hotel
CATEGORIES:Singapore
ORGANIZER;CN="GLOSSY":MAILTO:glossy.ann@smiasia.org
END:VEVENT
END:VCALENDAR