BEGIN:VCALENDAR
VERSION:2.0
PRODID:-//SMI ASIA Australia - ECPv5.9.0//NONSGML v1.0//EN
CALSCALE:GREGORIAN
METHOD:PUBLISH
X-WR-CALNAME:SMI ASIA Australia
X-ORIGINAL-URL:https://em.smiasia.org
X-WR-CALDESC:Events for SMI ASIA Australia
BEGIN:VTIMEZONE
TZID:UTC
BEGIN:STANDARD
TZOFFSETFROM:+0000
TZOFFSETTO:+0000
TZNAME:UTC
DTSTART:20210101T000000
END:STANDARD
END:VTIMEZONE
BEGIN:VEVENT
DTSTART;VALUE=DATE:20210412
DTEND;VALUE=DATE:20210414
DTSTAMP:20260425T155212
CREATED:20210122T040334Z
LAST-MODIFIED:20210122T040334Z
UID:2813-1618185600-1618358399@em.smiasia.org
SUMMARY:CREATIVE PROBLEM SOLVING & DECISION MAKING STRATEGIES
DESCRIPTION:
URL:https://em.smiasia.org/trainingevent/creative-problem-solving-decision-making-strategies/
LOCATION:DORSETT GRAND SUBANG
CATEGORIES:Kuala Lumpur
END:VEVENT
END:VCALENDAR