BEGIN:VCALENDAR
VERSION:2.0
PRODID:-//SMI ASIA Australia - ECPv5.9.0//NONSGML v1.0//EN
CALSCALE:GREGORIAN
METHOD:PUBLISH
X-WR-CALNAME:SMI ASIA Australia
X-ORIGINAL-URL:https://em.smiasia.org
X-WR-CALDESC:Events for SMI ASIA Australia
BEGIN:VTIMEZONE
TZID:UTC
BEGIN:STANDARD
TZOFFSETFROM:+0000
TZOFFSETTO:+0000
TZNAME:UTC
DTSTART:20210101T000000
END:STANDARD
END:VTIMEZONE
BEGIN:VEVENT
DTSTART;VALUE=DATE:20210405
DTEND;VALUE=DATE:20210407
DTSTAMP:20260423T112922
CREATED:20210130T040103Z
LAST-MODIFIED:20210130T040103Z
UID:3476-1617580800-1617753599@em.smiasia.org
SUMMARY:COMPLAINT MANAGEMENT & CUSTOMER SATISFACTION
DESCRIPTION:complaint management and delighting customer
URL:https://em.smiasia.org/trainingevent/complaint-management-customer-satisfaction-4/
LOCATION:RENAISSANCE JOHOR BAHRU
CATEGORIES:Johor Bahru
END:VEVENT
END:VCALENDAR