BEGIN:VCALENDAR
VERSION:2.0
PRODID:-//SMI ASIA Australia - ECPv5.9.0//NONSGML v1.0//EN
CALSCALE:GREGORIAN
METHOD:PUBLISH
X-WR-CALNAME:SMI ASIA Australia
X-ORIGINAL-URL:https://em.smiasia.org
X-WR-CALDESC:Events for SMI ASIA Australia
BEGIN:VTIMEZONE
TZID:UTC
BEGIN:STANDARD
TZOFFSETFROM:+0000
TZOFFSETTO:+0000
TZNAME:UTC
DTSTART:20210101T000000
END:STANDARD
END:VTIMEZONE
BEGIN:VEVENT
DTSTART;VALUE=DATE:20210201
DTEND;VALUE=DATE:20210203
DTSTAMP:20260422T014747
CREATED:20210114T044926Z
LAST-MODIFIED:20210114T044926Z
UID:2597-1612137600-1612310399@em.smiasia.org
SUMMARY:ADVANCED PURCHASING STRATEGY and PLANNING
DESCRIPTION:Advanced-Purchasing-Strategies-Planning
URL:https://em.smiasia.org/trainingevent/advanced-purchasing-strategy-and-planning/
LOCATION:DORSETT GRAND SUBANG
CATEGORIES:Kuala Lumpur
END:VEVENT
END:VCALENDAR