BEGIN:VCALENDAR
VERSION:2.0
PRODID:-//SMI ASIA Australia - ECPv5.9.0//NONSGML v1.0//EN
CALSCALE:GREGORIAN
METHOD:PUBLISH
X-WR-CALNAME:SMI ASIA Australia
X-ORIGINAL-URL:https://em.smiasia.org
X-WR-CALDESC:Events for SMI ASIA Australia
BEGIN:VTIMEZONE
TZID:UTC
BEGIN:STANDARD
TZOFFSETFROM:+0000
TZOFFSETTO:+0000
TZNAME:UTC
DTSTART:20210101T000000
END:STANDARD
END:VTIMEZONE
BEGIN:VEVENT
DTSTART;VALUE=DATE:20210208
DTEND;VALUE=DATE:20210210
DTSTAMP:20260421T120720
CREATED:20210123T020448Z
LAST-MODIFIED:20210207T014257Z
UID:2890-1612742400-1612915199@em.smiasia.org
SUMMARY:Advanced Purchasing Strategies & Planning Skills
DESCRIPTION:Advanced Purchasing Strategies & Planning
URL:https://em.smiasia.org/trainingevent/advanced-purchasing-strategies-planning-skills/
LOCATION:Furama Riverfront Hotel
CATEGORIES:Singapore
ORGANIZER;CN="GLOSSY":MAILTO:glossy.ann@smiasia.org
END:VEVENT
END:VCALENDAR