BEGIN:VCALENDAR
VERSION:2.0
PRODID:-//SMI ASIA Australia - ECPv5.9.0//NONSGML v1.0//EN
CALSCALE:GREGORIAN
METHOD:PUBLISH
X-WR-CALNAME:SMI ASIA Australia
X-ORIGINAL-URL:https://em.smiasia.org
X-WR-CALDESC:Events for SMI ASIA Australia
BEGIN:VTIMEZONE
TZID:UTC
BEGIN:STANDARD
TZOFFSETFROM:+0000
TZOFFSETTO:+0000
TZNAME:UTC
DTSTART:20210101T000000
END:STANDARD
END:VTIMEZONE
BEGIN:VEVENT
DTSTART;VALUE=DATE:20210218
DTEND;VALUE=DATE:20210220
DTSTAMP:20260421T162810
CREATED:20201229T091957Z
LAST-MODIFIED:20201229T091957Z
UID:2526-1613606400-1613779199@em.smiasia.org
SUMMARY:Activity Based Costing in Manufacturing Cost Reduction
DESCRIPTION:Activity Based Costing in Manufacturing Cost Reduction
URL:https://em.smiasia.org/trainingevent/activity-based-costing-in-manufacturing-cost-reduction/
LOCATION:AC HOTEL BY MARRIOTT (VISTANA)\, PENANG\, Bukit Jambul\, Penang\, Malaysia
CATEGORIES:Penang
ORGANIZER;CN="Quezel":MAILTO:quezel@smiasia.org/enquiry@smiasia.org
END:VEVENT
END:VCALENDAR